BEGIN:VCALENDAR
VERSION:2.0
PRODID:-//Naunton Parish Council//Meeting Calendar//EN
CALSCALE:GREGORIAN
METHOD:PUBLISH
BEGIN:VEVENT
UID:70513-20250519@naunton.parishadmin.xyz
DTSTAMP:20260422T162721Z
DTSTART;VALUE=DATE:20250519
DTEND;VALUE=DATE:20250520
SUMMARY:Annual Parish Meeting &#8211\\; 19 May 2025
DESCRIPTION:Annual Parish Meeting\nView details: https://naunton.parishadmin.xyz/meetings/annual-parish-meeting-19-may-2025/
URL:https://naunton.parishadmin.xyz/meetings/annual-parish-meeting-19-may-2025/
END:VEVENT
END:VCALENDAR
