BEGIN:VCALENDAR
VERSION:2.0
PRODID:-//Naunton Parish Council//Meeting Calendar//EN
CALSCALE:GREGORIAN
METHOD:PUBLISH
BEGIN:VEVENT
UID:70547-20250130@naunton.parishadmin.xyz
DTSTAMP:20260422T161707Z
DTSTART;VALUE=DATE:20250130
DTEND;VALUE=DATE:20250131
SUMMARY:Council Meeting &#8211\\; 30 January 2025
DESCRIPTION:Full Council Meeting\nView details: https://naunton.parishadmin.xyz/meetings/council-meeting-30-january-2025/
URL:https://naunton.parishadmin.xyz/meetings/council-meeting-30-january-2025/
END:VEVENT
END:VCALENDAR
