BEGIN:VCALENDAR
VERSION:2.0
PRODID:-//Naunton Parish Council//Meeting Calendar//EN
CALSCALE:GREGORIAN
METHOD:PUBLISH
BEGIN:VEVENT
UID:70552-20230101@naunton.parishadmin.xyz
DTSTAMP:20260422T173307Z
DTSTART;VALUE=DATE:20230101
DTEND;VALUE=DATE:20230102
SUMMARY:Council Meetings &#8211\\; 2023
DESCRIPTION:Full Council Meeting\nView details: https://naunton.parishadmin.xyz/meetings/council-meetings-2023/
URL:https://naunton.parishadmin.xyz/meetings/council-meetings-2023/
END:VEVENT
END:VCALENDAR
