BEGIN:VCALENDAR
VERSION:2.0
PRODID:-//Naunton Parish Council//Meeting Calendar//EN
CALSCALE:GREGORIAN
METHOD:PUBLISH
BEGIN:VEVENT
UID:70570-20220516@naunton.parishadmin.xyz
DTSTAMP:20260422T173850Z
DTSTART;VALUE=DATE:20220516
DTEND;VALUE=DATE:20220517
SUMMARY:Annual Parish Council Meeting &#8211\\; 16 May 2022
DESCRIPTION:Annual Parish Meeting\nView details: https://naunton.parishadmin.xyz/meetings/annual-parish-council-meeting-16-may-2022/
URL:https://naunton.parishadmin.xyz/meetings/annual-parish-council-meeting-16-may-2022/
END:VEVENT
END:VCALENDAR
