BEGIN:VCALENDAR
VERSION:2.0
PRODID:-//Naunton Parish Council//Meeting Calendar//EN
CALSCALE:GREGORIAN
METHOD:PUBLISH
BEGIN:VEVENT
UID:70573-20210101@naunton.parishadmin.xyz
DTSTAMP:20260422T173307Z
DTSTART;VALUE=DATE:20210101
DTEND;VALUE=DATE:20210102
SUMMARY:Council Meetings &#8211\\; 2021
DESCRIPTION:Full Council Meeting\nView details: https://naunton.parishadmin.xyz/meetings/council-meetings-2021/
URL:https://naunton.parishadmin.xyz/meetings/council-meetings-2021/
END:VEVENT
END:VCALENDAR
