BEGIN:VCALENDAR
VERSION:2.0
PRODID:-//Naunton Parish Council//Meeting Calendar//EN
CALSCALE:GREGORIAN
METHOD:PUBLISH
BEGIN:VEVENT
UID:70584-20210517@naunton.parishadmin.xyz
DTSTAMP:20260422T174151Z
DTSTART;VALUE=DATE:20210517
DTEND;VALUE=DATE:20210518
SUMMARY:Annual Parish Meeting &#8211\\; 17 May 2021
DESCRIPTION:Annual Parish Meeting\nView details: https://naunton.parishadmin.xyz/meetings/annual-parish-meeting-17-may-2021/
URL:https://naunton.parishadmin.xyz/meetings/annual-parish-meeting-17-may-2021/
END:VEVENT
END:VCALENDAR
