BEGIN:VCALENDAR
VERSION:2.0
PRODID:-//Naunton Parish Council//Meeting Calendar//EN
CALSCALE:GREGORIAN
METHOD:PUBLISH
BEGIN:VEVENT
UID:70592-20230515@naunton.parishadmin.xyz
DTSTAMP:20260422T175103Z
DTSTART;VALUE=DATE:20230515
DTEND;VALUE=DATE:20230516
SUMMARY:Annual Parish Meeting &#8211\\; 15 May 2023
DESCRIPTION:Annual Parish Meeting\nView details: https://naunton.parishadmin.xyz/meetings/annual-parish-meeting-15-may-2023/
URL:https://naunton.parishadmin.xyz/meetings/annual-parish-meeting-15-may-2023/
END:VEVENT
END:VCALENDAR
